BEGIN:VCALENDAR
VERSION:2.0
PRODID:-//Osservatorio Astronomico di Roma - ECPv6.15.20//NONSGML v1.0//EN
CALSCALE:GREGORIAN
METHOD:PUBLISH
X-WR-CALNAME:Osservatorio Astronomico di Roma
X-ORIGINAL-URL:https://www.oa-roma.inaf.it
X-WR-CALDESC:Eventi per Osservatorio Astronomico di Roma
REFRESH-INTERVAL;VALUE=DURATION:PT1H
X-Robots-Tag:noindex
X-PUBLISHED-TTL:PT1H
BEGIN:VTIMEZONE
TZID:Europe/Rome
BEGIN:DAYLIGHT
TZOFFSETFROM:+0100
TZOFFSETTO:+0200
TZNAME:CEST
DTSTART:20150329T010000
END:DAYLIGHT
BEGIN:STANDARD
TZOFFSETFROM:+0200
TZOFFSETTO:+0100
TZNAME:CET
DTSTART:20151025T010000
END:STANDARD
BEGIN:DAYLIGHT
TZOFFSETFROM:+0100
TZOFFSETTO:+0200
TZNAME:CEST
DTSTART:20160327T010000
END:DAYLIGHT
BEGIN:STANDARD
TZOFFSETFROM:+0200
TZOFFSETTO:+0100
TZNAME:CET
DTSTART:20161030T010000
END:STANDARD
BEGIN:DAYLIGHT
TZOFFSETFROM:+0100
TZOFFSETTO:+0200
TZNAME:CEST
DTSTART:20170326T010000
END:DAYLIGHT
BEGIN:STANDARD
TZOFFSETFROM:+0200
TZOFFSETTO:+0100
TZNAME:CET
DTSTART:20171029T010000
END:STANDARD
END:VTIMEZONE
BEGIN:VEVENT
DTSTART;TZID=Europe/Rome:20161129T114500
DTEND;TZID=Europe/Rome:20161129T124500
DTSTAMP:20260420T231553
CREATED:20161110T081903Z
LAST-MODIFIED:20161110T081903Z
UID:1973-1480419900-1480423500@www.oa-roma.inaf.it
SUMMARY:Da Halley a Rosetta: esplorazione delle comete
DESCRIPTION:Le analisi compositive dei nuclei cometari esplorati da vicino ( Halley/Giotto\, Borrelly/DS1\, Stardust/Wild-2\, Tempel1/Deep Impact\, soprattutto 67P-CG/Rosetta) hanno fornito informazioni decisive sull’origine delle comete\,  sul meccanismo della loro attività emissiva\, sulla loro possibile fonte di  molecole prebiologiche verso  ambienti planetari abitabili.\nTutto questo è riassunto per la prima volta in un libro recentemente pubblicato da Hoepli (L’ ESPLORAZIONE DELLE COMETE\, da Halley a Rosetta).
URL:https://www.oa-roma.inaf.it/event/da-halley-a-rosetta-esplorazione-delle-comete/
LOCATION:Aula Gratton
CATEGORIES:Seminari
END:VEVENT
BEGIN:VEVENT
DTSTART;TZID=Europe/Rome:20161129T114500
DTEND;TZID=Europe/Rome:20161129T124500
DTSTAMP:20260420T231553
CREATED:20161110T081903Z
LAST-MODIFIED:20161110T081903Z
UID:4698-1480419900-1480423500@www.oa-roma.inaf.it
SUMMARY:Da Halley a Rosetta: esplorazione delle comete
DESCRIPTION:Le analisi compositive dei nuclei cometari esplorati da vicino ( Halley/Giotto\, Borrelly/DS1\, Stardust/Wild-2\, Tempel1/Deep Impact\, soprattutto 67P-CG/Rosetta) hanno fornito informazioni decisive sull’origine delle comete\,  sul meccanismo della loro attività emissiva\, sulla loro possibile fonte di  molecole prebiologiche verso  ambienti planetari abitabili.\nTutto questo è riassunto per la prima volta in un libro recentemente pubblicato da Hoepli (L’ ESPLORAZIONE DELLE COMETE\, da Halley a Rosetta).
URL:https://www.oa-roma.inaf.it/event/da-halley-a-rosetta-esplorazione-delle-comete-2/
LOCATION:Aula Gratton
CATEGORIES:Seminari
END:VEVENT
END:VCALENDAR