BEGIN:VCALENDAR
VERSION:2.0
PRODID:-//Osservatorio Astronomico di Roma - ECPv6.15.20//NONSGML v1.0//EN
CALSCALE:GREGORIAN
METHOD:PUBLISH
X-ORIGINAL-URL:https://www.oa-roma.inaf.it
X-WR-CALDESC:Eventi per Osservatorio Astronomico di Roma
REFRESH-INTERVAL;VALUE=DURATION:PT1H
X-Robots-Tag:noindex
X-PUBLISHED-TTL:PT1H
BEGIN:VTIMEZONE
TZID:Europe/Rome
BEGIN:DAYLIGHT
TZOFFSETFROM:+0100
TZOFFSETTO:+0200
TZNAME:CEST
DTSTART:20180325T010000
END:DAYLIGHT
BEGIN:STANDARD
TZOFFSETFROM:+0200
TZOFFSETTO:+0100
TZNAME:CET
DTSTART:20181028T010000
END:STANDARD
BEGIN:DAYLIGHT
TZOFFSETFROM:+0100
TZOFFSETTO:+0200
TZNAME:CEST
DTSTART:20190331T010000
END:DAYLIGHT
BEGIN:STANDARD
TZOFFSETFROM:+0200
TZOFFSETTO:+0100
TZNAME:CET
DTSTART:20191027T010000
END:STANDARD
BEGIN:DAYLIGHT
TZOFFSETFROM:+0100
TZOFFSETTO:+0200
TZNAME:CEST
DTSTART:20200329T010000
END:DAYLIGHT
BEGIN:STANDARD
TZOFFSETFROM:+0200
TZOFFSETTO:+0100
TZNAME:CET
DTSTART:20201025T010000
END:STANDARD
END:VTIMEZONE
BEGIN:VEVENT
DTSTART;TZID=Europe/Rome:20191003T114500
DTEND;TZID=Europe/Rome:20191003T124500
DTSTAMP:20260424T172308
CREATED:20190902T141633Z
LAST-MODIFIED:20190926T090644Z
UID:6683-1570103100-1570106700@www.oa-roma.inaf.it
SUMMARY:Early galaxy formation and its large-scale effects
DESCRIPTION:Galaxy formation in the first billion years mark a time of great upheaval in the history of the Universe: as the first sources of light\, these galaxies ended the ‘cosmic dark ages’ and produced the first photons that could break apart the hydrogen atoms suffusing all of space starting the process of cosmic reionization. As the earliest building blocks\, the galaxies that formed in the first billion years also determine the physical properties of all subsequent galaxy populations. I will start by introducing the reionization process and detail the reasons foe which the history and topology of reionization remain debated. I will then show how cross-correlations of 21cm data with the underlying galaxy population\, in the forthcoming era of 21cm cosmology\, will yield tantalising constraints on the average intergalactic medium ionization state as well as the reionization toplogy (outside-in versus inside-out). Time permitting\, I will try to give a flavour of how the assembly of early galaxies\, accessible with the forthcoming James Webb Space Telescope\, can provide a powerful testbed for Dark Matter models beyond “Cold Dark Matter”.
URL:https://www.oa-roma.inaf.it/event/colloquium-pratika-dayal/
LOCATION:Aula Gratton
CATEGORIES:Seminari
END:VEVENT
END:VCALENDAR