BEGIN:VCALENDAR
VERSION:2.0
PRODID:-//Osservatorio Astronomico di Roma - ECPv6.15.20//NONSGML v1.0//EN
CALSCALE:GREGORIAN
METHOD:PUBLISH
X-WR-CALNAME:Osservatorio Astronomico di Roma
X-ORIGINAL-URL:https://www.oa-roma.inaf.it
X-WR-CALDESC:Eventi per Osservatorio Astronomico di Roma
REFRESH-INTERVAL;VALUE=DURATION:PT1H
X-Robots-Tag:noindex
X-PUBLISHED-TTL:PT1H
BEGIN:VTIMEZONE
TZID:Europe/Rome
BEGIN:DAYLIGHT
TZOFFSETFROM:+0100
TZOFFSETTO:+0200
TZNAME:CEST
DTSTART:20190331T010000
END:DAYLIGHT
BEGIN:STANDARD
TZOFFSETFROM:+0200
TZOFFSETTO:+0100
TZNAME:CET
DTSTART:20191027T010000
END:STANDARD
BEGIN:DAYLIGHT
TZOFFSETFROM:+0100
TZOFFSETTO:+0200
TZNAME:CEST
DTSTART:20200329T010000
END:DAYLIGHT
BEGIN:STANDARD
TZOFFSETFROM:+0200
TZOFFSETTO:+0100
TZNAME:CET
DTSTART:20201025T010000
END:STANDARD
BEGIN:DAYLIGHT
TZOFFSETFROM:+0100
TZOFFSETTO:+0200
TZNAME:CEST
DTSTART:20210328T010000
END:DAYLIGHT
BEGIN:STANDARD
TZOFFSETFROM:+0200
TZOFFSETTO:+0100
TZNAME:CET
DTSTART:20211031T010000
END:STANDARD
END:VTIMEZONE
BEGIN:VEVENT
DTSTART;TZID=Europe/Rome:20200211T114500
DTEND;TZID=Europe/Rome:20200211T124500
DTSTAMP:20260419T143043
CREATED:20191018T072026Z
LAST-MODIFIED:20200122T132159Z
UID:6942-1581421500-1581425100@www.oa-roma.inaf.it
SUMMARY:The quest for observational evidence of the hierarchical formation process at the smallest galaxy scales
DESCRIPTION:I will present our ongoing project devoted to the search and study of satellites\, stellar streams\, and substructures around dwarf galaxies. Deep\, wide field imaging acquired with the Large Binocular Telescope and follow-up observations performed with the WFC3 on the Hubble Space Telescope provide evidence of multiple satellites associated with the very metal-poor star-forming dwarf galaxy DDO 68. This is a striking example of the few observed cases of hierarchical merging in action at the dwarf galaxy scales. To perform a systematic search of substructures around dwarf galaxies\, we have started a Strategic Program at the LBT\, named SSH (i.e. The Smallest Scales of Hierarchy Survey) to acquire deep\, wide-field imaging of a sample of 45 late-type dwarf galaxies located within 10 Mpc. The survey\, which is now close to completion\, will provide one of the first systematic observational studies of the hierarchical formation process down to very small galaxy scales. In this talk I will introduce SSH and discuss the results obtained so far.
URL:https://www.oa-roma.inaf.it/event/colloquium-francesca-annibali/
LOCATION:Aula Gratton
CATEGORIES:Seminari
END:VEVENT
END:VCALENDAR