BEGIN:VCALENDAR
VERSION:2.0
PRODID:-//Osservatorio Astronomico di Roma - ECPv6.15.20//NONSGML v1.0//EN
CALSCALE:GREGORIAN
METHOD:PUBLISH
X-ORIGINAL-URL:https://www.oa-roma.inaf.it
X-WR-CALDESC:Eventi per Osservatorio Astronomico di Roma
REFRESH-INTERVAL;VALUE=DURATION:PT1H
X-Robots-Tag:noindex
X-PUBLISHED-TTL:PT1H
BEGIN:VTIMEZONE
TZID:Europe/Rome
BEGIN:DAYLIGHT
TZOFFSETFROM:+0100
TZOFFSETTO:+0200
TZNAME:CEST
DTSTART:20190331T010000
END:DAYLIGHT
BEGIN:STANDARD
TZOFFSETFROM:+0200
TZOFFSETTO:+0100
TZNAME:CET
DTSTART:20191027T010000
END:STANDARD
BEGIN:DAYLIGHT
TZOFFSETFROM:+0100
TZOFFSETTO:+0200
TZNAME:CEST
DTSTART:20200329T010000
END:DAYLIGHT
BEGIN:STANDARD
TZOFFSETFROM:+0200
TZOFFSETTO:+0100
TZNAME:CET
DTSTART:20201025T010000
END:STANDARD
BEGIN:DAYLIGHT
TZOFFSETFROM:+0100
TZOFFSETTO:+0200
TZNAME:CEST
DTSTART:20210328T010000
END:DAYLIGHT
BEGIN:STANDARD
TZOFFSETFROM:+0200
TZOFFSETTO:+0100
TZNAME:CET
DTSTART:20211031T010000
END:STANDARD
END:VTIMEZONE
BEGIN:VEVENT
DTSTART;TZID=Europe/Rome:20200310T114500
DTEND;TZID=Europe/Rome:20200310T124500
DTSTAMP:20260420T194509
CREATED:20200121T150505Z
LAST-MODIFIED:20200121T150505Z
UID:7311-1583840700-1583844300@www.oa-roma.inaf.it
SUMMARY:The role of starburst galaxies and mergers in the distant Universe
DESCRIPTION:Starburst galaxies are the most luminous star-forming powered objects in the Universe. A long standing problem in galaxy evolution is to understand whether these systems are caused by merger events\, or they are just gas rich galaxies undergoing stochastic accretion events. To properly characterize them\, we need infrared data\, given the huge dust attenuations affecting their UV and optical emission. \nI will present a unique set of near-infrared rest-frame spectral observations of star-forming galaxies at redshift ~ 0.7\, and show how these can be used to understand the dust properties and origin of starbursts. Furthermore\, I will explain how additional multiwavelength information (from radio to X-rays) is crucial to trace the whole sequence of mergers\, test the merger-AGN connection and the formation mechanism of passive galaxies. Finally\, I will exploit high-resolution HST images to investigate the role of mergers on the origin of bright star-forming clumps in high-redshift galaxies. A complete study of near-infrared rest-frame lines will allow JWST to probe the physical properties (e.g.\, dust attenuation\, metallicity) and the nature of the most dust-embedded systems up to the reionization epoch.
URL:https://www.oa-roma.inaf.it/event/the-role-of-starburst-galaxies-and-mergers-in-the-distant-universe/
LOCATION:Aula Gratton
CATEGORIES:Seminari
END:VEVENT
END:VCALENDAR