BEGIN:VCALENDAR
VERSION:2.0
PRODID:-//Osservatorio Astronomico di Roma - ECPv6.15.20//NONSGML v1.0//EN
CALSCALE:GREGORIAN
METHOD:PUBLISH
X-ORIGINAL-URL:https://www.oa-roma.inaf.it
X-WR-CALDESC:Eventi per Osservatorio Astronomico di Roma
REFRESH-INTERVAL;VALUE=DURATION:PT1H
X-Robots-Tag:noindex
X-PUBLISHED-TTL:PT1H
BEGIN:VTIMEZONE
TZID:Europe/Rome
BEGIN:DAYLIGHT
TZOFFSETFROM:+0100
TZOFFSETTO:+0200
TZNAME:CEST
DTSTART:20220327T010000
END:DAYLIGHT
BEGIN:STANDARD
TZOFFSETFROM:+0200
TZOFFSETTO:+0100
TZNAME:CET
DTSTART:20221030T010000
END:STANDARD
BEGIN:DAYLIGHT
TZOFFSETFROM:+0100
TZOFFSETTO:+0200
TZNAME:CEST
DTSTART:20230326T010000
END:DAYLIGHT
BEGIN:STANDARD
TZOFFSETFROM:+0200
TZOFFSETTO:+0100
TZNAME:CET
DTSTART:20231029T010000
END:STANDARD
BEGIN:DAYLIGHT
TZOFFSETFROM:+0100
TZOFFSETTO:+0200
TZNAME:CEST
DTSTART:20240331T010000
END:DAYLIGHT
BEGIN:STANDARD
TZOFFSETFROM:+0200
TZOFFSETTO:+0100
TZNAME:CET
DTSTART:20241027T010000
END:STANDARD
END:VTIMEZONE
BEGIN:VEVENT
DTSTART;TZID=Europe/Rome:20231121T113000
DTEND;TZID=Europe/Rome:20231121T123000
DTSTAMP:20260421T134644
CREATED:20231109T090747Z
LAST-MODIFIED:20231109T091233Z
UID:12500-1700566200-1700569800@www.oa-roma.inaf.it
SUMMARY:colloquium - Mario Llerena: Probing the extreme ISM of extreme emission line galaxies at z~4-9
DESCRIPTION:Over the past decades\, several studies have discovered a population of galaxies that undergo very strong star formation events. They are called extreme emission line galaxies (EELGs) and are characterized by typically high EWs which are driven by elevated specific star formation rates in low mass galaxies with subsolar metallicities and little dust. Such extreme systems are rare in the local universe\, but the number density of EELGs increases with increasing redshift. Such starburst galaxies are currently presumed strongly to be the main drivers of Hydrogen reionization over 5.5 < z < 15\, which serves to motivate many of the searches for high-z EELGs as well. I will present the physical properties of a sample of ~1000 EELGs at 4<z<9 photometrically-selected in the CEERS surveys using JWST/NIRCam and templates of local EELGs. Our results suggest they are metal-poor young starbursts with high ionization conditions which indicates they are strong LyC leakers candidates and ideal laboratories to NIRSpec follow-ups to study such extreme ISM conditions. \n 
URL:https://www.oa-roma.inaf.it/event/mario-llerena-probing-the-extreme-ism-of-extreme-emission-line-galaxies-at-z4-9/
LOCATION:Aula Gratton
CATEGORIES:Seminari
END:VEVENT
END:VCALENDAR