BEGIN:VCALENDAR
VERSION:2.0
PRODID:-//Osservatorio Astronomico di Roma - ECPv6.15.20//NONSGML v1.0//EN
CALSCALE:GREGORIAN
METHOD:PUBLISH
X-WR-CALNAME:Osservatorio Astronomico di Roma
X-ORIGINAL-URL:https://www.oa-roma.inaf.it
X-WR-CALDESC:Eventi per Osservatorio Astronomico di Roma
REFRESH-INTERVAL;VALUE=DURATION:PT1H
X-Robots-Tag:noindex
X-PUBLISHED-TTL:PT1H
BEGIN:VTIMEZONE
TZID:Europe/Rome
BEGIN:DAYLIGHT
TZOFFSETFROM:+0100
TZOFFSETTO:+0200
TZNAME:CEST
DTSTART:20160327T010000
END:DAYLIGHT
BEGIN:STANDARD
TZOFFSETFROM:+0200
TZOFFSETTO:+0100
TZNAME:CET
DTSTART:20161030T010000
END:STANDARD
BEGIN:DAYLIGHT
TZOFFSETFROM:+0100
TZOFFSETTO:+0200
TZNAME:CEST
DTSTART:20170326T010000
END:DAYLIGHT
BEGIN:STANDARD
TZOFFSETFROM:+0200
TZOFFSETTO:+0100
TZNAME:CET
DTSTART:20171029T010000
END:STANDARD
BEGIN:DAYLIGHT
TZOFFSETFROM:+0100
TZOFFSETTO:+0200
TZNAME:CEST
DTSTART:20180325T010000
END:DAYLIGHT
BEGIN:STANDARD
TZOFFSETFROM:+0200
TZOFFSETTO:+0100
TZNAME:CET
DTSTART:20181028T010000
END:STANDARD
BEGIN:DAYLIGHT
TZOFFSETFROM:+0100
TZOFFSETTO:+0200
TZNAME:CEST
DTSTART:20190331T010000
END:DAYLIGHT
BEGIN:STANDARD
TZOFFSETFROM:+0200
TZOFFSETTO:+0100
TZNAME:CET
DTSTART:20191027T010000
END:STANDARD
BEGIN:DAYLIGHT
TZOFFSETFROM:+0100
TZOFFSETTO:+0200
TZNAME:CEST
DTSTART:20200329T010000
END:DAYLIGHT
BEGIN:STANDARD
TZOFFSETFROM:+0200
TZOFFSETTO:+0100
TZNAME:CET
DTSTART:20201025T010000
END:STANDARD
BEGIN:DAYLIGHT
TZOFFSETFROM:+0100
TZOFFSETTO:+0200
TZNAME:CEST
DTSTART:20210328T010000
END:DAYLIGHT
BEGIN:STANDARD
TZOFFSETFROM:+0200
TZOFFSETTO:+0100
TZNAME:CET
DTSTART:20211031T010000
END:STANDARD
BEGIN:DAYLIGHT
TZOFFSETFROM:+0100
TZOFFSETTO:+0200
TZNAME:CEST
DTSTART:20220327T010000
END:DAYLIGHT
BEGIN:STANDARD
TZOFFSETFROM:+0200
TZOFFSETTO:+0100
TZNAME:CET
DTSTART:20221030T010000
END:STANDARD
BEGIN:DAYLIGHT
TZOFFSETFROM:+0100
TZOFFSETTO:+0200
TZNAME:CEST
DTSTART:20230326T010000
END:DAYLIGHT
BEGIN:STANDARD
TZOFFSETFROM:+0200
TZOFFSETTO:+0100
TZNAME:CET
DTSTART:20231029T010000
END:STANDARD
BEGIN:DAYLIGHT
TZOFFSETFROM:+0100
TZOFFSETTO:+0200
TZNAME:CEST
DTSTART:20240331T010000
END:DAYLIGHT
BEGIN:STANDARD
TZOFFSETFROM:+0200
TZOFFSETTO:+0100
TZNAME:CET
DTSTART:20241027T010000
END:STANDARD
END:VTIMEZONE
BEGIN:VEVENT
DTSTART;VALUE=DATE:20230509
DTEND;VALUE=DATE:20230510
DTSTAMP:20260426T032213
CREATED:20230210T064205Z
LAST-MODIFIED:20230210T064205Z
UID:11281-1683590400-1683676799@www.oa-roma.inaf.it
SUMMARY:OAR student's day
DESCRIPTION:
URL:https://www.oa-roma.inaf.it/event/oar-students-day/
LOCATION:Aula Gratton
CATEGORIES:Congressi
END:VEVENT
BEGIN:VEVENT
DTSTART;TZID=Europe/Rome:20191125T080000
DTEND;TZID=Europe/Rome:20191128T170000
DTSTAMP:20260426T032213
CREATED:20191122T181336Z
LAST-MODIFIED:20191122T181336Z
UID:7116-1574668800-1574960400@www.oa-roma.inaf.it
SUMMARY:workshop Stamerra
DESCRIPTION:
URL:https://www.oa-roma.inaf.it/event/workshop-stamerra/
LOCATION:Aula Gratton
CATEGORIES:Congressi
END:VEVENT
BEGIN:VEVENT
DTSTART;TZID=Europe/Rome:20191118T090000
DTEND;TZID=Europe/Rome:20191122T180000
DTSTAMP:20260426T032213
CREATED:20190111T102035Z
LAST-MODIFIED:20190111T102139Z
UID:5155-1574067600-1574445600@www.oa-roma.inaf.it
SUMMARY:Lithium in the Universe: to Be or not to Be
DESCRIPTION:
URL:https://www.oa-roma.inaf.it/event/lithium-in-the-universe-to-be-or-not-to-be/
LOCATION:OAR Monte Porzio Catone – aula Gratton\, Via Frascati 33\, Roma\, RM\, 00136\, Italia
CATEGORIES:Congressi
END:VEVENT
BEGIN:VEVENT
DTSTART;TZID=Europe/Rome:20170327T090000
DTEND;TZID=Europe/Rome:20170331T180000
DTSTAMP:20260426T032213
CREATED:20160601T043010Z
LAST-MODIFIED:20160601T043010Z
UID:1169-1490605200-1490983200@www.oa-roma.inaf.it
SUMMARY:The AGB-Supernovae mass transition
DESCRIPTION:
URL:https://www.oa-roma.inaf.it/event/the-agb-supernovae-mass-transition/
LOCATION:Aula Gratton
CATEGORIES:Congressi
ORGANIZER;CN="OAR":MAILTO:info@oa-roma.inaf.it
END:VEVENT
BEGIN:VEVENT
DTSTART;TZID=Europe/Rome:20170327T090000
DTEND;TZID=Europe/Rome:20170331T180000
DTSTAMP:20260426T032213
CREATED:20160601T043010Z
LAST-MODIFIED:20160601T043010Z
UID:4671-1490605200-1490983200@www.oa-roma.inaf.it
SUMMARY:The AGB-Supernovae mass transition
DESCRIPTION:
URL:https://www.oa-roma.inaf.it/event/the-agb-supernovae-mass-transition-2/
LOCATION:Aula Gratton
CATEGORIES:Congressi
ORGANIZER;CN="OAR":MAILTO:info@oa-roma.inaf.it
END:VEVENT
END:VCALENDAR